BEGIN:VCALENDAR
VERSION:2.0
PRODID:-//Interkultur - ECPv6.15.20//NONSGML v1.0//EN
CALSCALE:GREGORIAN
METHOD:PUBLISH
X-WR-CALNAME:Interkultur
X-ORIGINAL-URL:https://interkultur.fr/en/
X-WR-CALDESC:Events for Interkultur
REFRESH-INTERVAL;VALUE=DURATION:PT1H
X-Robots-Tag:noindex
X-PUBLISHED-TTL:PT1H
BEGIN:VTIMEZONE
TZID:Europe/Paris
BEGIN:DAYLIGHT
TZOFFSETFROM:+0100
TZOFFSETTO:+0200
TZNAME:CEST
DTSTART:20250330T010000
END:DAYLIGHT
BEGIN:STANDARD
TZOFFSETFROM:+0200
TZOFFSETTO:+0100
TZNAME:CET
DTSTART:20251026T010000
END:STANDARD
BEGIN:DAYLIGHT
TZOFFSETFROM:+0100
TZOFFSETTO:+0200
TZNAME:CEST
DTSTART:20260329T010000
END:DAYLIGHT
BEGIN:STANDARD
TZOFFSETFROM:+0200
TZOFFSETTO:+0100
TZNAME:CET
DTSTART:20261025T010000
END:STANDARD
BEGIN:DAYLIGHT
TZOFFSETFROM:+0100
TZOFFSETTO:+0200
TZNAME:CEST
DTSTART:20270328T010000
END:DAYLIGHT
BEGIN:STANDARD
TZOFFSETFROM:+0200
TZOFFSETTO:+0100
TZNAME:CET
DTSTART:20271031T010000
END:STANDARD
END:VTIMEZONE
BEGIN:VEVENT
DTSTART;TZID=Europe/Paris:20260422T140000
DTEND;TZID=Europe/Paris:20260422T160000
DTSTAMP:20260423T022801
CREATED:20260304T225543Z
LAST-MODIFIED:20260304T225543Z
UID:10002188-1776866400-1776873600@interkultur.fr
SUMMARY:Passages and Galeries - Apr/22/2026
DESCRIPTION:Where can you experience what Paris was like before Haussmann re-shaped the city with its iconic wide boulevards? How did Paris invent the ‘art of window shopping‘ and what did people do in the early years after the French Revolution and under Napoleon on a sunny Saturday afternoon? \nThey went to the covered passages of course!  \n\n\n\n\n\n\n\n\n\n\n\n\n\n\n\n\n\n\n\n\n\n\n\n\n\n\nTrue pillars of Parisian identity\, these attractive shopping arcades were in their heyday in the 19th and the beginning of the 20th centuries. Often abandoned or destroyed today\, less than thirty of them still exist. \n\n\n\n\n\n\n\n\n\n\nLet’s go on a promenade and see these architectural gems which cover a range of styles. Some have been beautifully restored; others are still “undiscovered.” Some are prestigious with chic boutiques and restaurants when others are more humble. Some are more for wholesale goods; others are lively tourist attractions. Some have more ethnic origins; others are secret\, some neglected. Some have even more or less disappeared and we will only find traces of their existence.\n\nThe walk will cover a dozen passageways\, highlighting the most beautiful ones to be seen in Paris.\n\n\n\n\n\n\n\n\n\n\n\n\n\n\n\n\n\n\n\n\n\n\n\n\n\nWalk in English organized for expats in Paris. The meeting point is outside the Grands Boulevards metro station\, exit number 1.  \n50€/person. \n\n\n\n\n\n\n\n\n\n\n 
URL:https://interkultur.fr/en/event/passages-and-galeries-apr-22-2026/
LOCATION:Outside Grands Boulevards metro station exit 1\, 32\, Boulevard Poissonnière\, Paris\, 75009\, France
CATEGORIES:Periodic visits - Paris,Visits of Paris
ATTACH;FMTTYPE=image/jpeg:https://interkultur.fr/wp-content/uploads/2024/02/Passage-du-Grand-Cerf.jpg
ORGANIZER;CN="Interkultur Paris":MAILTO:contact@interkultur.fr
END:VEVENT
END:VCALENDAR